BEGIN:VCALENDAR
VERSION:2.0
PRODID:-//mercyhilltopcenter.com//NONSGML kigkonsult.se iCalcreator 2.30.10
 //
CALSCALE:GREGORIAN
METHOD:PUBLISH
UID:a48f2c28-8c02-4da6-914b-115655851429
X-WR-CALDESC:Spring Fundraiser -  MHC will be raffling off a Gift Card Tree
  worth $500\nMonies raised support the Operations of Mercy Hilltop Center.
  \nTickets are being sold for $10.00 each or 3 tickets for $20.00.
X-WR-RELCALID:cf052e34ad7297fb87b0b77f10c304b3
X-WR-TIMEZONE:America/New_York
BEGIN:VTIMEZONE
TZID:America/New_York
BEGIN:STANDARD
TZNAME:EST
DTSTART:20251102T020000
TZOFFSETFROM:-0400
TZOFFSETTO:-0500
RDATE:20261101T020000
END:STANDARD
BEGIN:DAYLIGHT
TZNAME:EDT
DTSTART:20260308T020000
TZOFFSETFROM:-0500
TZOFFSETTO:-0400
RDATE:20270314T020000
END:DAYLIGHT
END:VTIMEZONE
BEGIN:VEVENT
UID:acff735a-de23-41ab-9a8f-df538186e219
DTSTAMP:20260420T112525Z
DESCRIPTION:Spring Fundraiser -  MHC will be raffling off a Gift Card Tree 
 worth $500\nMonies raised support the Operations of Mercy Hilltop Center. 
 \nTickets are being sold for $10.00 each or 3 tickets for $20.00.
DTSTART;TZID=America/New_York:20260401T060000
DTEND;TZID=America/New_York:20260430T060001
LOCATION:3715 Pennsylvania Ave\, Erie\, PA 16504 US
SUMMARY:SPRING FUNDRAISER
END:VEVENT
END:VCALENDAR
