BEGIN:VCALENDAR
VERSION:2.0
PRODID:-//mercyhilltopcenter.com//NONSGML kigkonsult.se iCalcreator 2.30.10
 //
CALSCALE:GREGORIAN
METHOD:PUBLISH
UID:e2aec9aa-162d-4d2a-99e9-cb44b6daf70b
X-WR-CALDESC:May's Lunch Bunch will be at Madeline's in Cranesville\, PA \n
 Ride the MHC Van for $3.00 \nKindly RSVP by 4/22/26.
X-WR-RELCALID:3b391c9b66c2161051e9dfc0ef9d4fd7
X-WR-TIMEZONE:America/New_York
BEGIN:VTIMEZONE
TZID:America/New_York
BEGIN:STANDARD
TZNAME:EST
DTSTART:20251102T020000
TZOFFSETFROM:-0400
TZOFFSETTO:-0500
RDATE:20261101T020000
END:STANDARD
BEGIN:DAYLIGHT
TZNAME:EDT
DTSTART:20260308T020000
TZOFFSETFROM:-0500
TZOFFSETTO:-0400
RDATE:20270314T020000
END:DAYLIGHT
END:VTIMEZONE
BEGIN:VEVENT
UID:98e5416c-1f8f-4b38-944e-799e3d3fc237
DTSTAMP:20260421T003610Z
DESCRIPTION:May's Lunch Bunch will be at Madeline's in Cranesville\, PA \nR
 ide the MHC Van for $3.00 \nKindly RSVP by 4/22/26.
DTSTART;TZID=America/New_York:20260506T104500
DTEND;TZID=America/New_York:20260506T140000
LOCATION:
SUMMARY:Lunch Bunch
END:VEVENT
END:VCALENDAR
