BEGIN:VCALENDAR
VERSION:2.0
PRODID:-//mercyhilltopcenter.com//NONSGML kigkonsult.se iCalcreator 2.30.10
 //
CALSCALE:GREGORIAN
METHOD:PUBLISH
UID:9711cb6d-9387-41e9-919a-3c817e669dec
X-WR-CALDESC:Join us for the 38th Annual MHC Golf Outing on Wednesday\, Jun
 e 24th at Venango Valley Golf Course \n11:00am Registration\, Noon Shot Gu
 n Start. Lunch and Steak Dinner included\nSenior Golfers - $90\n59 & Young
 er - $110\nCall or stop by the Center to register your team!
X-WR-RELCALID:4033b9809288f975b8c98f8fd2983d7d
X-WR-TIMEZONE:America/New_York
BEGIN:VTIMEZONE
TZID:America/New_York
BEGIN:STANDARD
TZNAME:EST
DTSTART:20251102T020000
TZOFFSETFROM:-0400
TZOFFSETTO:-0500
RDATE:20261101T020000
RDATE:20271107T020000
END:STANDARD
BEGIN:DAYLIGHT
TZNAME:EDT
DTSTART:20260308T020000
TZOFFSETFROM:-0500
TZOFFSETTO:-0400
RDATE:20270314T020000
END:DAYLIGHT
END:VTIMEZONE
BEGIN:VEVENT
UID:94f16b20-5e38-465a-8fb8-bf97d7d96a63
DTSTAMP:20260425T105637Z
DESCRIPTION:Join us for the 38th Annual MHC Golf Outing on Wednesday\, June
  24th at Venango Valley Golf Course \n11:00am Registration\, Noon Shot Gun
  Start. Lunch and Steak Dinner included\nSenior Golfers - $90\n59 & Younge
 r - $110\nCall or stop by the Center to register your team!
DTSTART;TZID=America/New_York:20260624T110000
DTEND;TZID=America/New_York:20260624T180000
LOCATION:21217 Church Street\, Venango\, PA 16440 US
SUMMARY:38th Annual Golf Outing
END:VEVENT
END:VCALENDAR
